BEGIN:VCALENDAR
VERSION:2.0
PRODID:-//The Bottleneck - ECPv6.10.1//NONSGML v1.0//EN
CALSCALE:GREGORIAN
METHOD:PUBLISH
X-ORIGINAL-URL:https://thebottlenecklive.com
X-WR-CALDESC:Events for The Bottleneck
REFRESH-INTERVAL;VALUE=DURATION:PT1H
X-Robots-Tag:noindex
X-PUBLISHED-TTL:PT1H
BEGIN:VTIMEZONE
TZID:America/Chicago
BEGIN:DAYLIGHT
TZOFFSETFROM:-0600
TZOFFSETTO:-0500
TZNAME:CDT
DTSTART:20250309T080000
END:DAYLIGHT
BEGIN:STANDARD
TZOFFSETFROM:-0500
TZOFFSETTO:-0600
TZNAME:CST
DTSTART:20251102T070000
END:STANDARD
END:VTIMEZONE
BEGIN:VEVENT
DTSTART;VALUE=DATE:20251029
DTEND;VALUE=DATE:20251030
DTSTAMP:20260425T222210
CREATED:20250819T160146Z
LAST-MODIFIED:20250826T191537Z
UID:1022-1761696000-1761782399@thebottlenecklive.com
SUMMARY:Militarie Gun
DESCRIPTION:With Liquid Mike and Public Opinion\nAll Ages\nDoors at 7pm // Show at 8pm\nAdvance Tickets: $20 // Day of Show: $25\nFacebook Event
URL:https://thebottlenecklive.com/event/militarie-gun/
ATTACH;FMTTYPE=image/jpeg:https://thebottlenecklive.com/wp-content/uploads/2025/08/MilitarieGun_Bottleneck_8.5x11.jpg
END:VEVENT
END:VCALENDAR