BEGIN:VCALENDAR
VERSION:2.0
PRODID:-//The Bottleneck - ECPv6.10.1//NONSGML v1.0//EN
CALSCALE:GREGORIAN
METHOD:PUBLISH
X-WR-CALNAME:The Bottleneck
X-ORIGINAL-URL:https://thebottlenecklive.com
X-WR-CALDESC:Events for The Bottleneck
REFRESH-INTERVAL;VALUE=DURATION:PT1H
X-Robots-Tag:noindex
X-PUBLISHED-TTL:PT1H
BEGIN:VTIMEZONE
TZID:America/Chicago
BEGIN:DAYLIGHT
TZOFFSETFROM:-0600
TZOFFSETTO:-0500
TZNAME:CDT
DTSTART:20250309T080000
END:DAYLIGHT
BEGIN:STANDARD
TZOFFSETFROM:-0500
TZOFFSETTO:-0600
TZNAME:CST
DTSTART:20251102T070000
END:STANDARD
END:VTIMEZONE
BEGIN:VEVENT
DTSTART;VALUE=DATE:20251103
DTEND;VALUE=DATE:20251104
DTSTAMP:20260425T222052
CREATED:20250820T160115Z
LAST-MODIFIED:20250909T212833Z
UID:1025-1762128000-1762214399@thebottlenecklive.com
SUMMARY:King 810
DESCRIPTION:With Tallah\, Filth\, and Mirrorcell\nAll Ages\nDoors at 7pm // Show at 8pm\nAdvance Tickets: $25 // Day of Show: $30\nFacebook Event
URL:https://thebottlenecklive.com/event/king-810/
ATTACH;FMTTYPE=image/jpeg:https://thebottlenecklive.com/wp-content/uploads/2025/08/11.3.25-KING-810-BOTTLENECK-scaled.jpg
END:VEVENT
END:VCALENDAR