BEGIN:VCALENDAR
VERSION:2.0
PRODID:-//The Bottleneck - ECPv6.10.1//NONSGML v1.0//EN
CALSCALE:GREGORIAN
METHOD:PUBLISH
X-WR-CALNAME:The Bottleneck
X-ORIGINAL-URL:https://thebottlenecklive.com
X-WR-CALDESC:Events for The Bottleneck
REFRESH-INTERVAL;VALUE=DURATION:PT1H
X-Robots-Tag:noindex
X-PUBLISHED-TTL:PT1H
BEGIN:VTIMEZONE
TZID:America/Chicago
BEGIN:DAYLIGHT
TZOFFSETFROM:-0600
TZOFFSETTO:-0500
TZNAME:CDT
DTSTART:20250309T080000
END:DAYLIGHT
BEGIN:STANDARD
TZOFFSETFROM:-0500
TZOFFSETTO:-0600
TZNAME:CST
DTSTART:20251102T070000
END:STANDARD
END:VTIMEZONE
BEGIN:VEVENT
DTSTART;VALUE=DATE:20251220
DTEND;VALUE=DATE:20251221
DTSTAMP:20260425T222052
CREATED:20251028T161713Z
LAST-MODIFIED:20251205T162425Z
UID:1180-1766188800-1766275199@thebottlenecklive.com
SUMMARY:DRIFTMIST IV: Over Rivers\, Through Woods
DESCRIPTION:With Drifter\, Aprilmist\, Sarkatha\, and Kegare\nAll Ages\nDoors at 7pm // Show at 8pm\n$10 cover at the door\nFacebook Event
URL:https://thebottlenecklive.com/event/driftmist-iv-over-rivers-through-woods/
ATTACH;FMTTYPE=image/png:https://thebottlenecklive.com/wp-content/uploads/2025/10/Driftmist-IV-8.5x11Admat.png
END:VEVENT
END:VCALENDAR