BEGIN:VCALENDAR
VERSION:2.0
PRODID:-//The Bottleneck - ECPv6.10.1//NONSGML v1.0//EN
CALSCALE:GREGORIAN
METHOD:PUBLISH
X-ORIGINAL-URL:https://thebottlenecklive.com
X-WR-CALDESC:Events for The Bottleneck
REFRESH-INTERVAL;VALUE=DURATION:PT1H
X-Robots-Tag:noindex
X-PUBLISHED-TTL:PT1H
BEGIN:VTIMEZONE
TZID:America/Chicago
BEGIN:DAYLIGHT
TZOFFSETFROM:-0600
TZOFFSETTO:-0500
TZNAME:CDT
DTSTART:20260308T080000
END:DAYLIGHT
BEGIN:STANDARD
TZOFFSETFROM:-0500
TZOFFSETTO:-0600
TZNAME:CST
DTSTART:20261101T070000
END:STANDARD
END:VTIMEZONE
BEGIN:VEVENT
DTSTART;VALUE=DATE:20260109
DTEND;VALUE=DATE:20260110
DTSTAMP:20260425T192854
CREATED:20251231T031306Z
LAST-MODIFIED:20251231T031306Z
UID:1330-1767916800-1768003199@thebottlenecklive.com
SUMMARY:RIHANNA: A Drag Tribute Show
DESCRIPTION:18+\nDoors at 8pm // Show at 9pm\n$8 cover at the door
URL:https://thebottlenecklive.com/event/rihanna-a-drag-tribute-show/
ATTACH;FMTTYPE=image/jpeg:https://thebottlenecklive.com/wp-content/uploads/2025/12/1.9.25-Rihanna-Tribute.jpg
END:VEVENT
END:VCALENDAR