BEGIN:VCALENDAR
VERSION:2.0
PRODID:-//The Bottleneck - ECPv6.10.1//NONSGML v1.0//EN
CALSCALE:GREGORIAN
METHOD:PUBLISH
X-WR-CALNAME:The Bottleneck
X-ORIGINAL-URL:https://thebottlenecklive.com
X-WR-CALDESC:Events for The Bottleneck
REFRESH-INTERVAL;VALUE=DURATION:PT1H
X-Robots-Tag:noindex
X-PUBLISHED-TTL:PT1H
BEGIN:VTIMEZONE
TZID:America/Chicago
BEGIN:DAYLIGHT
TZOFFSETFROM:-0600
TZOFFSETTO:-0500
TZNAME:CDT
DTSTART:20260308T080000
END:DAYLIGHT
BEGIN:STANDARD
TZOFFSETFROM:-0500
TZOFFSETTO:-0600
TZNAME:CST
DTSTART:20261101T070000
END:STANDARD
END:VTIMEZONE
BEGIN:VEVENT
DTSTART;VALUE=DATE:20260314
DTEND;VALUE=DATE:20260315
DTSTAMP:20260425T162850
CREATED:20251201T223335Z
LAST-MODIFIED:20260129T210558Z
UID:1255-1773446400-1773532799@thebottlenecklive.com
SUMMARY:Aries - GLASS JAW World Tour
DESCRIPTION:With Tiffany Day\nAll Ages\nDoors at 7pm // Show at 8pm\nAdvance Tickets: $30 // Day of Show: $35 // VIP: $105\nFacebook Event
URL:https://thebottlenecklive.com/event/aries-glass-jaw-world-tour/
ATTACH;FMTTYPE=image/jpeg:https://thebottlenecklive.com/wp-content/uploads/2025/12/3.14.26-ARIES-BOTTLENECK-1-scaled.jpg
END:VEVENT
END:VCALENDAR