BEGIN:VCALENDAR
VERSION:2.0
PRODID:-//The Bottleneck - ECPv6.10.1//NONSGML v1.0//EN
CALSCALE:GREGORIAN
METHOD:PUBLISH
X-ORIGINAL-URL:https://thebottlenecklive.com
X-WR-CALDESC:Events for The Bottleneck
REFRESH-INTERVAL;VALUE=DURATION:PT1H
X-Robots-Tag:noindex
X-PUBLISHED-TTL:PT1H
BEGIN:VTIMEZONE
TZID:America/Chicago
BEGIN:DAYLIGHT
TZOFFSETFROM:-0600
TZOFFSETTO:-0500
TZNAME:CDT
DTSTART:20260308T080000
END:DAYLIGHT
BEGIN:STANDARD
TZOFFSETFROM:-0500
TZOFFSETTO:-0600
TZNAME:CST
DTSTART:20261101T070000
END:STANDARD
END:VTIMEZONE
BEGIN:VEVENT
DTSTART;VALUE=DATE:20260402
DTEND;VALUE=DATE:20260403
DTSTAMP:20260425T150859
CREATED:20260325T162307Z
LAST-MODIFIED:20260325T162307Z
UID:1561-1775088000-1775174399@thebottlenecklive.com
SUMMARY:Truant Kids
DESCRIPTION:With Plastic Ray Gun\, Cat F!ght\, and The Fun Guy\n18+\nDoors at 7pm // Show at 8pm\n$10 cover at the door\nFacebook Event
URL:https://thebottlenecklive.com/event/truant-kids/
ATTACH;FMTTYPE=image/png:https://thebottlenecklive.com/wp-content/uploads/2026/03/4.2.2026-Truant-Kids-Flyer.png
END:VEVENT
END:VCALENDAR