BEGIN:VCALENDAR
VERSION:2.0
PRODID:-//The Bottleneck - ECPv6.10.1//NONSGML v1.0//EN
CALSCALE:GREGORIAN
METHOD:PUBLISH
X-WR-CALNAME:The Bottleneck
X-ORIGINAL-URL:https://thebottlenecklive.com
X-WR-CALDESC:Events for The Bottleneck
REFRESH-INTERVAL;VALUE=DURATION:PT1H
X-Robots-Tag:noindex
X-PUBLISHED-TTL:PT1H
BEGIN:VTIMEZONE
TZID:America/Chicago
BEGIN:DAYLIGHT
TZOFFSETFROM:-0600
TZOFFSETTO:-0500
TZNAME:CDT
DTSTART:20260308T080000
END:DAYLIGHT
BEGIN:STANDARD
TZOFFSETFROM:-0500
TZOFFSETTO:-0600
TZNAME:CST
DTSTART:20261101T070000
END:STANDARD
END:VTIMEZONE
BEGIN:VEVENT
DTSTART;VALUE=DATE:20260424
DTEND;VALUE=DATE:20260425
DTSTAMP:20260423T222949
CREATED:20260327T190229Z
LAST-MODIFIED:20260327T190229Z
UID:1564-1776988800-1777075199@thebottlenecklive.com
SUMMARY:Ten Times Fast
DESCRIPTION:With Quick On The Draw and Thirty Aught Six\nAll Ages\nDoors at 7pm // Show at 8pm\nAdvance Tickets: $10 // Day of Show: $10\nFacebook Event
URL:https://thebottlenecklive.com/event/ten-times-fast/
ATTACH;FMTTYPE=image/png:https://thebottlenecklive.com/wp-content/uploads/2026/03/4.24.26-Ten-Times-Fast.png
END:VEVENT
BEGIN:VEVENT
DTSTART;VALUE=DATE:20260425
DTEND;VALUE=DATE:20260426
DTSTAMP:20260423T222949
CREATED:20260220T150159Z
LAST-MODIFIED:20260406T185726Z
UID:1472-1777075200-1777161599@thebottlenecklive.com
SUMMARY:Grace Ives
DESCRIPTION:With Whu Else\nAll Ages\nDoors at 7pm\nAdvance Tickets: $25 // Day of Show: $25\nFacebook Event
URL:https://thebottlenecklive.com/event/grace-ives/
ATTACH;FMTTYPE=image/jpeg:https://thebottlenecklive.com/wp-content/uploads/2026/02/GraceIves_Bottleneck_8.5x11-1-scaled.jpg
END:VEVENT
BEGIN:VEVENT
DTSTART;VALUE=DATE:20260426
DTEND;VALUE=DATE:20260427
DTSTAMP:20260423T222949
CREATED:20260217T170209Z
LAST-MODIFIED:20260223T180701Z
UID:1460-1777161600-1777247999@thebottlenecklive.com
SUMMARY:Locked Shut
DESCRIPTION:With Lower Heaven\, Yeah Right\, and Unity Ticket\nAll Ages\nDoors at 6pm // Show at 7pm\nAdvance Tickets: $16 // Day of Show: $18\nFacebook Event
URL:https://thebottlenecklive.com/event/locked-shut/
ATTACH;FMTTYPE=image/jpeg:https://thebottlenecklive.com/wp-content/uploads/2026/02/4.26.26-LOCKED-SHUT-BOTTLENECK-2-scaled.jpg
END:VEVENT
BEGIN:VEVENT
DTSTART;VALUE=DATE:20260429
DTEND;VALUE=DATE:20260430
DTSTAMP:20260423T222949
CREATED:20260113T150205Z
LAST-MODIFIED:20260206T151855Z
UID:1365-1777420800-1777507199@thebottlenecklive.com
SUMMARY:Barns Courtney Unplugged Solo Sessions
DESCRIPTION:With Belle and Chain\nAll Ages\nDoors at 7pm // Show at 8pm\nAdvance Tickets: $25 // Day of Show: $30\nFacebook Event
URL:https://thebottlenecklive.com/event/barns-courtney-unplugged-solo-sessions/
ATTACH;FMTTYPE=image/jpeg:https://thebottlenecklive.com/wp-content/uploads/2026/01/4.29.26-BARNS-COURTNEY-BOTTLENECK-1-scaled.jpg
END:VEVENT
BEGIN:VEVENT
DTSTART;VALUE=DATE:20260430
DTEND;VALUE=DATE:20260501
DTSTAMP:20260423T222949
CREATED:20260219T150654Z
LAST-MODIFIED:20260324T223239Z
UID:1466-1777507200-1777593599@thebottlenecklive.com
SUMMARY:Spineshank & Hed PE - Nu Metal Sucks Tour
DESCRIPTION:With Primer 55\, Kissing Candice\, and Seuss Mace\nAll Ages\nDoors at 7pm // Show at 8pm\nAdvance Tickets: $25 // Day of Show: $30\nFacebook Event
URL:https://thebottlenecklive.com/event/spineshank-hed-pe-nu-metal-sucks-tour/
ATTACH;FMTTYPE=image/jpeg:https://thebottlenecklive.com/wp-content/uploads/2026/02/4.30.26-SPINESHANK-BOTTLENECK-1-scaled.jpg
END:VEVENT
BEGIN:VEVENT
DTSTART;VALUE=DATE:20260501
DTEND;VALUE=DATE:20260502
DTSTAMP:20260423T222949
CREATED:20260120T150811Z
LAST-MODIFIED:20260120T150811Z
UID:1389-1777593600-1777679999@thebottlenecklive.com
SUMMARY:Trauma Ray & Glixen
DESCRIPTION:With KEEP and Money\nAll Ages\nDoors at 7pm // Show at 8pm\nAdvance Tickets: $21 // Day of Show: $24\nFacebook Event
URL:https://thebottlenecklive.com/event/trauma-ray-glixen/
ATTACH;FMTTYPE=image/jpeg:https://thebottlenecklive.com/wp-content/uploads/2026/01/Glixen_TraumaRay_Bottleneck_8.5x11-scaled.jpg
END:VEVENT
BEGIN:VEVENT
DTSTART;VALUE=DATE:20260502
DTEND;VALUE=DATE:20260503
DTSTAMP:20260423T222949
CREATED:20260210T170153Z
LAST-MODIFIED:20260305T161555Z
UID:1445-1777680000-1777766399@thebottlenecklive.com
SUMMARY:Rickshaw Billie’s Burger Patrol - Cash Grab Tour 2026
DESCRIPTION:With American Sharks and Pink Fuzz\nAll Ages\nDoors at 7pm // Show at 8pm\nAdvance Tickets: $20 // Day of Show: $20\nFacebook Event
URL:https://thebottlenecklive.com/event/rickshaw-billies-burger-patrol-cash-grab-tour-2026/
ATTACH;FMTTYPE=image/jpeg:https://thebottlenecklive.com/wp-content/uploads/2026/02/RickshawBilliesBurgerPatroL_Bottleneck_8.5x11-1-scaled.jpg
END:VEVENT
BEGIN:VEVENT
DTSTART;VALUE=DATE:20260509
DTEND;VALUE=DATE:20260510
DTSTAMP:20260423T222949
CREATED:20260410T160943Z
LAST-MODIFIED:20260410T160943Z
UID:1607-1778284800-1778371199@thebottlenecklive.com
SUMMARY:Deegan Poores
DESCRIPTION:With Jacobi & The Jammers and Discotek Mama\nAll Ages\nDoors at 7pm // Show at 8pm\n$10 cover at the door\nFacebook Event
URL:https://thebottlenecklive.com/event/deegan-poores/
ATTACH;FMTTYPE=image/jpeg:https://thebottlenecklive.com/wp-content/uploads/2026/04/DP_bottleneck_poster_final-scaled.jpg
END:VEVENT
BEGIN:VEVENT
DTSTART;VALUE=DATE:20260516
DTEND;VALUE=DATE:20260517
DTSTAMP:20260423T222949
CREATED:20260202T170214Z
LAST-MODIFIED:20260204T202826Z
UID:1423-1778889600-1778975999@thebottlenecklive.com
SUMMARY:Oranssi Pazuzu
DESCRIPTION:With Wayfarer\nAll Ages\nDoors at 7pm // Show at 8pm\nAdvance Tickets: $30 // Day of Show: $35
URL:https://thebottlenecklive.com/event/oranssi-pazuzu/
ATTACH;FMTTYPE=image/jpeg:https://thebottlenecklive.com/wp-content/uploads/2026/02/5.16.26-ORANASSI-PAZUZU-BOTTLENECK-1-scaled.jpg
END:VEVENT
BEGIN:VEVENT
DTSTART;VALUE=DATE:20260518
DTEND;VALUE=DATE:20260519
DTSTAMP:20260423T222949
CREATED:20260311T140233Z
LAST-MODIFIED:20260313T160747Z
UID:1510-1779062400-1779148799@thebottlenecklive.com
SUMMARY:BABYFXCE E - Be Da Realest Tour 2026 *MOVED TO GRANADA*
DESCRIPTION:*MOVED FROM THE BOTTLENECK TO THE GRANADA*\nWith Luhh Dyl\nAll Ages\nDoors at 7pm // Show at 8pm\nAdvance Tickets: $20 // Day of Show: $25\nFacebook Event
URL:https://thebottlenecklive.com/event/babyfxce-e-be-da-realest-tour-2026/
ATTACH;FMTTYPE=image/jpeg:https://thebottlenecklive.com/wp-content/uploads/2026/03/BABYFXCE-E-GRANADA-scaled.jpg
END:VEVENT
BEGIN:VEVENT
DTSTART;VALUE=DATE:20260523
DTEND;VALUE=DATE:20260524
DTSTAMP:20260423T222949
CREATED:20260417T233408Z
LAST-MODIFIED:20260417T233408Z
UID:1623-1779494400-1779580799@thebottlenecklive.com
SUMMARY:Tim Kasher
DESCRIPTION:With Old Canes\nAll Ages\nDoors at 7pm // Show at 8pm\nAdvance Tickets: $18 // Day of Show: $20\nFacebook Event
URL:https://thebottlenecklive.com/event/tim-kasher/
ATTACH;FMTTYPE=image/jpeg:https://thebottlenecklive.com/wp-content/uploads/2026/04/TimKasher_Bottleneck_8.5x11-scaled.jpg
END:VEVENT
BEGIN:VEVENT
DTSTART;VALUE=DATE:20260531
DTEND;VALUE=DATE:20260601
DTSTAMP:20260423T222949
CREATED:20260120T170801Z
LAST-MODIFIED:20260123T204522Z
UID:1392-1780185600-1780271999@thebottlenecklive.com
SUMMARY:1313 Mockingbird Lane Presents: Alpha Wolf - Let It Rip USA Tour
DESCRIPTION:With Gideon\, Mugshot\, and Resolve\nAll Ages\nDoors at 6pm // Show at 7pm\nAdvance Tickets: $25 // Day of Show: $25\nFacebook Event
URL:https://thebottlenecklive.com/event/alpha-wolf-let-it-rip-usa-tour/
ATTACH;FMTTYPE=image/jpeg:https://thebottlenecklive.com/wp-content/uploads/2026/01/5.31.26-ALPHA-WOLF-BOTTLENECK-1-scaled.jpg
END:VEVENT
BEGIN:VEVENT
DTSTART;VALUE=DATE:20260601
DTEND;VALUE=DATE:20260602
DTSTAMP:20260423T222949
CREATED:20260324T160218Z
LAST-MODIFIED:20260408T160325Z
UID:1547-1780272000-1780358399@thebottlenecklive.com
SUMMARY:*MOVED TO GRANADA* Radius Presents: smokedope2016 - The Comedown Tour
DESCRIPTION:With Ghostfacekush and bartesianWater\nAll Ages\nDoors at 7pm // Show at 8pm\nAdvance Tickets: $32 // Day of Show: $37\nFacebook Event
URL:https://thebottlenecklive.com/event/radius-presents-smokedope2016-the-comedown-tour/
ATTACH;FMTTYPE=image/jpeg:https://thebottlenecklive.com/wp-content/uploads/2026/03/6.1.26-SMOKEDOPE2016-GRANADA-scaled.jpg
END:VEVENT
BEGIN:VEVENT
DTSTART;VALUE=DATE:20260604
DTEND;VALUE=DATE:20260605
DTSTAMP:20260423T222949
CREATED:20260407T170135Z
LAST-MODIFIED:20260407T170135Z
UID:1587-1780531200-1780617599@thebottlenecklive.com
SUMMARY:The Arcadian Wild: The Better Stories Tour
DESCRIPTION:All Ages\nDoors at 7pm // Show at 8pm\nAdvance Tickets: $20 // Day of Show: $25\nFacebook Event
URL:https://thebottlenecklive.com/event/the-arcadian-wild-the-better-stories-tour/
ATTACH;FMTTYPE=image/jpeg:https://thebottlenecklive.com/wp-content/uploads/2026/04/TheArcadianWild_Bottleneck_8.5x11-scaled.jpg
END:VEVENT
BEGIN:VEVENT
DTSTART;VALUE=DATE:20260605
DTEND;VALUE=DATE:20260606
DTSTAMP:20260423T222949
CREATED:20260407T160129Z
LAST-MODIFIED:20260407T160129Z
UID:1584-1780617600-1780703999@thebottlenecklive.com
SUMMARY:House of Heavy
DESCRIPTION:18+\nDoors at 7:30pm // Show at 8pm\nEarly Bird: $17 // Advance Tickets: $20 // Day of Show: $23\nFacebook Event
URL:https://thebottlenecklive.com/event/house-of-heavy/
ATTACH;FMTTYPE=image/jpeg:https://thebottlenecklive.com/wp-content/uploads/2026/04/Static-Variation-Square-HOH10976-Fri5Jun26-Lawrence-The-Bottleneck.jpeg
END:VEVENT
BEGIN:VEVENT
DTSTART;VALUE=DATE:20260606
DTEND;VALUE=DATE:20260607
DTSTAMP:20260423T222949
CREATED:20260416T162208Z
LAST-MODIFIED:20260416T162208Z
UID:1620-1780704000-1780790399@thebottlenecklive.com
SUMMARY:Maidens of Metal
DESCRIPTION:With Khaos Theory\, Oxytoxin\, Horned Wolf\, Pit Hag\, and Galdrar\nAll Ages\nDoors at 5pm // Show at 6pm\n$10 cover at the door\nFacebook Event
URL:https://thebottlenecklive.com/event/maidens-of-metal/
ATTACH;FMTTYPE=image/jpeg:https://thebottlenecklive.com/wp-content/uploads/2026/04/6.6.26-Maidens-of-Metal-Flyer.jpg
END:VEVENT
BEGIN:VEVENT
DTSTART;VALUE=DATE:20260607
DTEND;VALUE=DATE:20260608
DTSTAMP:20260423T222949
CREATED:20260316T160856Z
LAST-MODIFIED:20260316T164443Z
UID:1523-1780790400-1780876799@thebottlenecklive.com
SUMMARY:Anvil
DESCRIPTION:With Midnite Hellion and Sarkatha\nAll Ages\nDoors at 7pm // Show at 8pm\nAdvance Tickets: $20 // Day of Show: $25\nFacebook Event
URL:https://thebottlenecklive.com/event/anvil/
ATTACH;FMTTYPE=image/jpeg:https://thebottlenecklive.com/wp-content/uploads/2026/03/6.7.26-ANVIL-BOTTLENECK-1-scaled.jpg
END:VEVENT
BEGIN:VEVENT
DTSTART;VALUE=DATE:20260615
DTEND;VALUE=DATE:20260616
DTSTAMP:20260423T222949
CREATED:20260420T170150Z
LAST-MODIFIED:20260420T170150Z
UID:1626-1781481600-1781567999@thebottlenecklive.com
SUMMARY:BrokeNCYDE & Filth Boybands and Breakdowns Tour
DESCRIPTION:With From This Day Forward\nAll Ages\nDoors at 7pm // Show at 8pm\nAdvance Tickets: $20 // Day of Show: $25\nFacebook Event
URL:https://thebottlenecklive.com/event/brokencyde-filth-boybands-and-breakdowns-tour/
ATTACH;FMTTYPE=image/png:https://thebottlenecklive.com/wp-content/uploads/2026/04/6.15.2026-Brokencyde-and-Filth-Flyer.png
END:VEVENT
BEGIN:VEVENT
DTSTART;VALUE=DATE:20260619
DTEND;VALUE=DATE:20260620
DTSTAMP:20260423T222949
CREATED:20260317T170121Z
LAST-MODIFIED:20260317T170121Z
UID:1536-1781827200-1781913599@thebottlenecklive.com
SUMMARY:Himalayas
DESCRIPTION:All Ages\nDoors at 7pm // Show at 8pm\nAdvance Tickets: $22 // Day of Show: $25\nFacebook Event
URL:https://thebottlenecklive.com/event/himalayas/
ATTACH;FMTTYPE=image/jpeg:https://thebottlenecklive.com/wp-content/uploads/2026/03/6.19.26-HIMALAYAS-BOTTLENECK-scaled.jpg
END:VEVENT
BEGIN:VEVENT
DTSTART;VALUE=DATE:20260621
DTEND;VALUE=DATE:20260622
DTSTAMP:20260423T222949
CREATED:20260423T192900Z
LAST-MODIFIED:20260423T192900Z
UID:1645-1782000000-1782086399@thebottlenecklive.com
SUMMARY:ATM Birthday Bash
DESCRIPTION:With Hippy K\, 3lade\, Forrest Savage\, Rednekc\, TJay\, Dex\, Obsouleet\, JCO\, Ridiculous Beats\, and Nick Hadley\n18+\nDoors at 6pm // Show at 7pm\nAdvance Tickets: $10 // Day of Show: $15\nFacebook Event
URL:https://thebottlenecklive.com/event/atm-birthday-bash/
ATTACH;FMTTYPE=image/jpeg:https://thebottlenecklive.com/wp-content/uploads/2026/04/ATM-Flyer.jpg
END:VEVENT
BEGIN:VEVENT
DTSTART;VALUE=DATE:20260626
DTEND;VALUE=DATE:20260627
DTSTAMP:20260423T222949
CREATED:20260401T150113Z
LAST-MODIFIED:20260401T191700Z
UID:1574-1782432000-1782518399@thebottlenecklive.com
SUMMARY:Chuck Mead
DESCRIPTION:All Ages\nDoors at 7pm // Show at 8pm\nAdvance Tickets: $20 // Day of Show: $25\nFacebook Event
URL:https://thebottlenecklive.com/event/chuck-mead/
ATTACH;FMTTYPE=image/jpeg:https://thebottlenecklive.com/wp-content/uploads/2026/04/ChuckMead_Bottleneck_8.5x11-1-scaled.jpg
END:VEVENT
BEGIN:VEVENT
DTSTART;VALUE=DATE:20260627
DTEND;VALUE=DATE:20260628
DTSTAMP:20260423T222949
CREATED:20260407T150253Z
LAST-MODIFIED:20260407T150253Z
UID:1581-1782518400-1782604799@thebottlenecklive.com
SUMMARY:Julie Doiron & Carson McHone
DESCRIPTION:All Ages\nDoors at 7pm // Show at 8pm\nAdvance Tickets: $20 // Day of Show: $25\nFacebook Event
URL:https://thebottlenecklive.com/event/julie-doiron-carson-mchone/
ATTACH;FMTTYPE=image/jpeg:https://thebottlenecklive.com/wp-content/uploads/2026/04/6.27.26-JULIE-DORION-CARSON-MCHONE-BOTTLENECK-scaled.jpg
END:VEVENT
BEGIN:VEVENT
DTSTART;VALUE=DATE:20260702
DTEND;VALUE=DATE:20260703
DTSTAMP:20260423T222949
CREATED:20260421T160140Z
LAST-MODIFIED:20260423T152427Z
UID:1632-1782950400-1783036799@thebottlenecklive.com
SUMMARY:Sparta
DESCRIPTION:All Ages\nDoors at 7pm // Show at 8pm\nAdvance Tickets: $20 // Day of Show: $25\nFacebook Event
URL:https://thebottlenecklive.com/event/sparta/
ATTACH;FMTTYPE=image/jpeg:https://thebottlenecklive.com/wp-content/uploads/2026/04/Sparta_Bottleneck_8.5x11-scaled.jpg
END:VEVENT
BEGIN:VEVENT
DTSTART;VALUE=DATE:20260712
DTEND;VALUE=DATE:20260713
DTSTAMP:20260423T222949
CREATED:20260411T160128Z
LAST-MODIFIED:20260411T160128Z
UID:1610-1783814400-1783900799@thebottlenecklive.com
SUMMARY:Midwest Doom Coalition Presents: Slumbering Sun & Insomniac
DESCRIPTION:With Burn ICT and Gravehuffer\nAll Ages\nDoors at 7pm // Show at 8pm\nAdvance Tickets: $15 // Day of Show: $20\nFacebook Event
URL:https://thebottlenecklive.com/event/midwest-doom-coalition-presents-slumbering-sun-insomniac/
ATTACH;FMTTYPE=image/jpeg:https://thebottlenecklive.com/wp-content/uploads/2026/04/7.12.26-SLUMBERING-SUN-INSOMNIAC-BOTTLENECK-scaled.jpg
END:VEVENT
BEGIN:VEVENT
DTSTART;VALUE=DATE:20260714
DTEND;VALUE=DATE:20260715
DTSTAMP:20260423T222949
CREATED:20260324T150143Z
LAST-MODIFIED:20260324T150143Z
UID:1544-1783987200-1784073599@thebottlenecklive.com
SUMMARY:Wavves
DESCRIPTION:With Bass Drum of Death and World’s Worst\nAll Ages\nDoors at 7pm // Show at 8pm\nAdvance Tickets: $25 // Day of Show: $27\nFacebook Event
URL:https://thebottlenecklive.com/event/wavves/
ATTACH;FMTTYPE=image/jpeg:https://thebottlenecklive.com/wp-content/uploads/2026/03/Wavves_Bottleneck_8.5x11-scaled.jpg
END:VEVENT
BEGIN:VEVENT
DTSTART;VALUE=DATE:20260715
DTEND;VALUE=DATE:20260716
DTSTAMP:20260423T222949
CREATED:20260309T161232Z
LAST-MODIFIED:20260416T150907Z
UID:1501-1784073600-1784159999@thebottlenecklive.com
SUMMARY:Ded - The Anti-Everything Tour
DESCRIPTION:With Dropout Kings\, VRSTY and Mad Existence\nAll Ages\nDoors at 6pm // Show at 7pm\nAdvance Tickets: $20 // Day of Show: $25\nFacebook Event
URL:https://thebottlenecklive.com/event/ded-the-anti-everything-tour/
ATTACH;FMTTYPE=image/jpeg:https://thebottlenecklive.com/wp-content/uploads/2026/03/DED-Bottleneck-scaled.jpg
END:VEVENT
BEGIN:VEVENT
DTSTART;VALUE=DATE:20260726
DTEND;VALUE=DATE:20260727
DTSTAMP:20260423T222949
CREATED:20260421T170105Z
LAST-MODIFIED:20260421T170105Z
UID:1638-1785024000-1785110399@thebottlenecklive.com
SUMMARY:Bit Brigade Performs “Mega Man X” LIVE
DESCRIPTION:All Ages\nDoors at 6:30pm // Show at 7:30pm\nAdvance Tickets: $20 // Day of Show: $20\nFacebook Event
URL:https://thebottlenecklive.com/event/bit-brigade-performs-mega-man-x-live/
ATTACH;FMTTYPE=image/jpeg:https://thebottlenecklive.com/wp-content/uploads/2026/04/7.26.26-BIT-BRIGADE-BOTTLENECK-scaled.jpg
END:VEVENT
BEGIN:VEVENT
DTSTART;VALUE=DATE:20260728
DTEND;VALUE=DATE:20260729
DTSTAMP:20260423T222949
CREATED:20260421T160855Z
LAST-MODIFIED:20260421T160855Z
UID:1635-1785196800-1785283199@thebottlenecklive.com
SUMMARY:Kansas City Hardcore Presents: Balmora
DESCRIPTION:With Empty Shell Casing and In 2 Again\nAll Ages\nDoors at 7pm // Show at 7:30pm\nAdvance Tickets: $20 // Day of Show: $22\nFacebook Event
URL:https://thebottlenecklive.com/event/kansas-city-hardcore-presents-balmora/
ATTACH;FMTTYPE=image/jpeg:https://thebottlenecklive.com/wp-content/uploads/2026/04/7.28.26-BALMORA-BOTTLENECK-scaled.jpg
END:VEVENT
BEGIN:VEVENT
DTSTART;VALUE=DATE:20260730
DTEND;VALUE=DATE:20260731
DTSTAMP:20260423T222949
CREATED:20260317T142551Z
LAST-MODIFIED:20260318T150856Z
UID:1528-1785369600-1785455999@thebottlenecklive.com
SUMMARY:The Format (Unplugged)
DESCRIPTION:All Ages\nDoors at 7pm // Show at 8pm\nAdvance Tickets: $31 // Day of Show: $31\nFacebook Event
URL:https://thebottlenecklive.com/event/the-format/
ATTACH;FMTTYPE=image/jpeg:https://thebottlenecklive.com/wp-content/uploads/2026/03/TheFormat_Bottleneck_8.5x11-scaled.jpg
END:VEVENT
BEGIN:VEVENT
DTSTART;VALUE=DATE:20260821
DTEND;VALUE=DATE:20260822
DTSTAMP:20260423T222949
CREATED:20260312T170107Z
LAST-MODIFIED:20260312T170107Z
UID:1517-1787270400-1787356799@thebottlenecklive.com
SUMMARY:Rehash
DESCRIPTION:All Ages\nDoors at 7pm // Show at 8pm\nAdvance Tickets: $22 // Day of Show: $22\nFacebook Event
URL:https://thebottlenecklive.com/event/rehash/
ATTACH;FMTTYPE=image/jpeg:https://thebottlenecklive.com/wp-content/uploads/2026/03/8.21.26-REHASH-BOTTLENECK-scaled.jpg
END:VEVENT
END:VCALENDAR